BEGIN:VCALENDAR
VERSION:2.0
PRODID:-//Garrels-orgel Maassluis - ECPv4.6.16//NONSGML v1.0//EN
CALSCALE:GREGORIAN
METHOD:PUBLISH
X-WR-CALNAME:Garrels-orgel Maassluis
X-ORIGINAL-URL:https://www.garrelsorgelmaassluis.nl
X-WR-CALDESC:Events for Garrels-orgel Maassluis
BEGIN:VEVENT
DTSTART;TZID=Europe/Amsterdam:20190803T200000
DTEND;TZID=Europe/Amsterdam:20190803T200000
DTSTAMP:20260422T130833
CREATED:20190121T121452Z
LAST-MODIFIED:20190713T094307Z
UID:807-1564862400-1564862400@www.garrelsorgelmaassluis.nl
SUMMARY:Theo Jellema (Bach-herdenking)
DESCRIPTION:Werken van Johann Sebastian Bach (1685-1750) \n \nProgramma\nPraeludium in a\, BWV 551 \nUit de Leipziger Choräle:\n– ‘Komm\, heiliger Geist’ à 2 claviers et pédale\, BWV 652\n– ‘Schmücke dich\, o liebe Seele’ à 2 claviers et pédale\, BWV 654\n– ‘An Wasserfl üssen Babylon’ à 2 claviers et pédale\, BWV 653 \nTriosonate IV in e\, BWV 528\n– Adagio – Vivace\n– Andante\n– Un poc’ allegro \nUit de Leipziger Choräle:\n– ‘Allein Gott in der Höh sei Ehr’ (adagio) à 2 claviers et pédale\, il canto fermo nel soprano\, BWV 662\n– ’Jesus Christus\, unser Heiland’ sub communione / pedaliter\, BWV 665\n– ‘Jesus Christus\, unser Heiland’ alio modo\, BWV 666 \nPraeludium und Fuge in a\, BWV 543 \n
URL:https://www.garrelsorgelmaassluis.nl/concert/theo-jellema-bach-herdenking/
LOCATION:Kerkplein 2\, Maassluis\, 3144 EK\, Nederland
GEO:51.9221915;4.2508181
X-APPLE-STRUCTURED-LOCATION;VALUE=URI;X-ADDRESS=Kerkplein 2 Maassluis 3144 EK Nederland;X-APPLE-RADIUS=500;X-TITLE=Kerkplein 2:geo:4.2508181,51.9221915
CATEGORIES:2019
ATTACH;FMTTYPE=image/jpeg:https://www.garrelsorgelmaassluis.nl/cms/wp-content/uploads/2019/01/Theo-Jellema-Grote-kerk.jpg
END:VEVENT
END:VCALENDAR