BEGIN:VCALENDAR
VERSION:2.0
PRODID:-//Garrels-orgel Maassluis - ECPv4.6.16//NONSGML v1.0//EN
CALSCALE:GREGORIAN
METHOD:PUBLISH
X-WR-CALNAME:Garrels-orgel Maassluis
X-ORIGINAL-URL:https://www.garrelsorgelmaassluis.nl
X-WR-CALDESC:Events for Garrels-orgel Maassluis
BEGIN:VEVENT
DTSTART;TZID=Europe/Amsterdam:20170805T200000
DTEND;TZID=Europe/Amsterdam:20170805T211500
DTSTAMP:20260425T012830
CREATED:20170619T171726Z
LAST-MODIFIED:20171224T091730Z
UID:280-1501963200-1501967700@www.garrelsorgelmaassluis.nl
SUMMARY:Kees van Eersel - Bach-herdenking
DESCRIPTION:Het traditionele herdenkingsconcert rond de sterfdatum van Johann Sebastian Bach wordt dit jaar gegeven door Kees van Eersel. \n  \nPROGRAMMA \nWerken van Johann Sebastian Bach\nEisenach 21 maart 1685 – Leipzig 28 juli 1750 \nUit het Musikalisches Opfer: Ricercar a 6 voci BWV 1079 \nAdvent – Kerst – Epifaniën \n– Nun komm’der Heiden Heiland BWV599\n– In dulci jubilo BWV 608\n– Christum wir sollen loben schon BWV 611\n– Christ unser Herr zum Jordan kam BWV 684 \nConcerto in C gr.t. BWV 595 \nVeertig dagen en Pasen\n– O Lamm Gottes unschuldig BWV 618\n– Christus der uns selig macht BWV 620\n– Christ lag in Todes banden BWV 625 \nTrio in c kl.t. Adagio – Allegro WV 585 \nPinksteren – eind kerkelijk jaar\n– Komm\, Gott\, Schöpfer \, heiliger Geist BWV 667\n– Ich ruf’zu dir BWV 639\n– Alle menschen müssen sterben BWV 643 \nUit ‘Die Kunst der Fuge’ Fuga XV a tre soggetti ed a 4 voci BWV 1080 \nVor deinen Thron tret’ ich hiermit BWV 668 \n
URL:https://www.garrelsorgelmaassluis.nl/concert/kees-van-eersel-bach-herdenking/
LOCATION:Kerkplein 2\, Maassluis\, 3144 EK\, Nederland
GEO:51.9221915;4.2508181
X-APPLE-STRUCTURED-LOCATION;VALUE=URI;X-ADDRESS=Kerkplein 2 Maassluis 3144 EK Nederland;X-APPLE-RADIUS=500;X-TITLE=Kerkplein 2:geo:4.2508181,51.9221915
CATEGORIES:2017
ATTACH;FMTTYPE=image/jpeg:https://www.garrelsorgelmaassluis.nl/cms/wp-content/uploads/2017/06/kees3-e1500545781806.jpg
END:VEVENT
END:VCALENDAR