BEGIN:VCALENDAR
VERSION:2.0
PRODID:-//Garrels-orgel Maassluis - ECPv4.6.16//NONSGML v1.0//EN
CALSCALE:GREGORIAN
METHOD:PUBLISH
X-WR-CALNAME:Garrels-orgel Maassluis
X-ORIGINAL-URL:https://www.garrelsorgelmaassluis.nl
X-WR-CALDESC:Events for Garrels-orgel Maassluis
BEGIN:VEVENT
DTSTART;TZID=Europe/Amsterdam:20170930T200000
DTEND;TZID=Europe/Amsterdam:20170930T211500
DTSTAMP:20260424T213139
CREATED:20170619T173031Z
LAST-MODIFIED:20171224T091730Z
UID:289-1506801600-1506806100@www.garrelsorgelmaassluis.nl
SUMMARY:Jaap Kroonenburg - Hommage aan Feike Asma
DESCRIPTION:Het jaarlijks concert waarin een hommage wordt gebracht aan misschien wel de beroemdste bespeler van het Garrels-orgel\, Feike Asma (1912-1984)\n \n  \nPROGRAMMA \nFeike Asma 1912-1984\nFantasie Psalm 73 ‘k Zal dan gedurig bij U zijn \nCornelis de Wolf 1880-1935\nPassacaglia\, koraal en fuga over ‘Wie maar de goede God laat zorgen’ \nAlexandre Guilmant 1837-1911\nLamentation en ré mineur\, opus 45 no. 1 \nSigfrid Karg-Elert 1877-1933\nHomage to Handel\, opus 75 no. 5 \nPaul Chr. van Westering 1911-1991\nVariaties over ‘Merck toch hoe sterck’ \nFeike Asma 1912-1984\n– Trio over ‘Verlosser\, Vriend\, Gij hoop en lust’\n– Fantasie over Psalm 77 ‘’k Zal gedenken\, hoe voor dezen\, ons de Heer heeft gunst bewezen’ \n  \n© foto Koos Schippers \n
URL:https://www.garrelsorgelmaassluis.nl/concert/jaap-kroonenburg-hommage-aan-feike-asma/
LOCATION:Kerkplein 2\, Maassluis\, 3144 EK\, Nederland
GEO:51.9221915;4.2508181
X-APPLE-STRUCTURED-LOCATION;VALUE=URI;X-ADDRESS=Kerkplein 2 Maassluis 3144 EK Nederland;X-APPLE-RADIUS=500;X-TITLE=Kerkplein 2:geo:4.2508181,51.9221915
CATEGORIES:2017
ATTACH;FMTTYPE=image/jpeg:https://www.garrelsorgelmaassluis.nl/cms/wp-content/uploads/2017/06/Feike_Asma-e1500545603334.jpg
END:VEVENT
END:VCALENDAR