BEGIN:VCALENDAR
VERSION:2.0
PRODID:-//Garrels-orgel Maassluis - ECPv4.6.16//NONSGML v1.0//EN
CALSCALE:GREGORIAN
METHOD:PUBLISH
X-WR-CALNAME:Garrels-orgel Maassluis
X-ORIGINAL-URL:https://www.garrelsorgelmaassluis.nl
X-WR-CALDESC:Events for Garrels-orgel Maassluis
BEGIN:VEVENT
DTSTART;TZID=Europe/Amsterdam:20190720T200000
DTEND;TZID=Europe/Amsterdam:20190720T200000
DTSTAMP:20260422T143710
CREATED:20190121T121245Z
LAST-MODIFIED:20190713T093845Z
UID:804-1563652800-1563652800@www.garrelsorgelmaassluis.nl
SUMMARY:Gerben Mourik
DESCRIPTION:Gerben Mourik speelt een Romantisch programma. Als slotstuk de Sinfonietta van de Franse organist en componist Jean Guillou\, die begin dit jaar op 88-jarige leeftijd overleed. \n \nProgramma\nK. Hoyer (1891-1936)\nToccata und Fuge in D \nJ. Grison (1842-1896)\nPastorale en La \nE. Commette (1883-1967)\nScherzo \nM. Reger (1873-1916)\n‘Ach bleib mit Deiner Gnade’\, opus 135a \nS. Karg-Elert (1877-1933)\nSymphonischer choral ‘Ach bleib mit Deiner Gnade’\, opus 87/1 \nG. Mourik (1981)\nImprovisatie \nJ. Guillou (1930-2019)\nSinfonietta\n– Allegretto\n– Andante\n– Allegro giocoso \n
URL:https://www.garrelsorgelmaassluis.nl/concert/2019-gerben-mourik/
LOCATION:Kerkplein 2\, Maassluis\, 3144 EK\, Nederland
GEO:51.9221915;4.2508181
X-APPLE-STRUCTURED-LOCATION;VALUE=URI;X-ADDRESS=Kerkplein 2 Maassluis 3144 EK Nederland;X-APPLE-RADIUS=500;X-TITLE=Kerkplein 2:geo:4.2508181,51.9221915
CATEGORIES:2019
ATTACH;FMTTYPE=image/jpeg:https://www.garrelsorgelmaassluis.nl/cms/wp-content/uploads/2019/01/opt-2.jpg
END:VEVENT
END:VCALENDAR