BEGIN:VCALENDAR
VERSION:2.0
PRODID:-//Garrels-orgel Maassluis - ECPv4.6.16//NONSGML v1.0//EN
CALSCALE:GREGORIAN
METHOD:PUBLISH
X-WR-CALNAME:Garrels-orgel Maassluis
X-ORIGINAL-URL:https://www.garrelsorgelmaassluis.nl
X-WR-CALDESC:Events for Garrels-orgel Maassluis
BEGIN:VEVENT
DTSTART;TZID=Europe/Amsterdam:20181222T200000
DTEND;TZID=Europe/Amsterdam:20181222T200000
DTSTAMP:20260425T104829
CREATED:20171224T091331Z
LAST-MODIFIED:20180602T084721Z
UID:596-1545508800-1545508800@www.garrelsorgelmaassluis.nl
SUMMARY:Jaap Kroonenburg - Kerstconcert bij kaarslicht
DESCRIPTION:Met werken van Jan Zwart\, Feike Asma\, Bach\, Händel\, Franck en Monnikendam. Aansluitend samenzang van “Daar is uit ’s werelds duist’re wolken”.Programma \n1 Jan Zwart Suite (1877-1937)\n‘Kerstfeest’ no.2\n(Komt allen te samen–’t Was nacht in Bethlehem’s dreven – Van uit de hemel daalde ik neer – de herdertjes lagen bij nachte -Van uit de hemel daalde ik neer – Vol van pracht – Daar is uit ’s werelds duistre wolken) \n2. Johann Seb. Bach (1685-1750)\nChoralvorspiel ‘Nun komm’ der Heiden Heiland’ BWV 659 \n3. George Fr. Händel (1685-1759)\nAndante (uit ‘Concerto no.1) \n4. César Franck (1822-1890)\nPièce héroique \n5. Marius Monnikendam (1896-1977)\nTema con variazione per la notte di natale \n6. Feike Asma (1912-1984)\nFinale over Kerstmelodieën met aansluitend samenzang van “Daar is uit ’s werelds duist’re wolken” \n
URL:https://www.garrelsorgelmaassluis.nl/concert/2018-jaap-kroonenburg-kerstconcert-bij-kaarslicht/
LOCATION:Kerkplein 2\, Maassluis\, 3144 EK\, Nederland
GEO:51.9221915;4.2508181
X-APPLE-STRUCTURED-LOCATION;VALUE=URI;X-ADDRESS=Kerkplein 2 Maassluis 3144 EK Nederland;X-APPLE-RADIUS=500;X-TITLE=Kerkplein 2:geo:4.2508181,51.9221915
CATEGORIES:2018
ATTACH;FMTTYPE=image/jpeg:https://www.garrelsorgelmaassluis.nl/cms/wp-content/uploads/2017/06/IMG_0010.jpg
END:VEVENT
END:VCALENDAR