BEGIN:VCALENDAR
VERSION:2.0
PRODID:-//Garrels-orgel Maassluis - ECPv4.6.16//NONSGML v1.0//EN
CALSCALE:GREGORIAN
METHOD:PUBLISH
X-WR-CALNAME:Garrels-orgel Maassluis
X-ORIGINAL-URL:https://www.garrelsorgelmaassluis.nl
X-WR-CALDESC:Events for Garrels-orgel Maassluis
BEGIN:VEVENT
DTSTART;TZID=Europe/Amsterdam:20180804T200000
DTEND;TZID=Europe/Amsterdam:20180804T200000
DTSTAMP:20260425T040856
CREATED:20171224T090749Z
LAST-MODIFIED:20180602T083254Z
UID:586-1533412800-1533412800@www.garrelsorgelmaassluis.nl
SUMMARY:Cor Ardesch - Bach-herdenking
DESCRIPTION:Cor Ardesch speelt het traditionele Bach-concert\, met het praeludium en fuga in G\, prachtige koralen\, een triosonate\, en tot slot de Dorische toccata! \nProgramma\nPraeludium en Fuga G (BWV 541) \nUit de ‘Schübler-Choräle’ \n\nWer nur den lieben Gott lässt walten BWV 647\nWo soll ich fliehen hin BWV 646\nMeine Seele erhebt den Herren BWV 648\n\n Sonate VI (BWV 530) \n\nVivace\nLente\nAllegro\n\nO Lamm Gottes unschuldig (BWV 656) \n3 versus \nToccata en Fuga d (dorische) BWV 538 \n  \n
URL:https://www.garrelsorgelmaassluis.nl/concert/2018-cor-ardesch-bach-herdenking/
LOCATION:Kerkplein 2\, Maassluis\, 3144 EK\, Nederland
GEO:51.9221915;4.2508181
X-APPLE-STRUCTURED-LOCATION;VALUE=URI;X-ADDRESS=Kerkplein 2 Maassluis 3144 EK Nederland;X-APPLE-RADIUS=500;X-TITLE=Kerkplein 2:geo:4.2508181,51.9221915
CATEGORIES:2018
ATTACH;FMTTYPE=image/jpeg:https://www.garrelsorgelmaassluis.nl/cms/wp-content/uploads/2017/12/opt-2.jpg
END:VEVENT
END:VCALENDAR