BEGIN:VCALENDAR
VERSION:2.0
PRODID:-//Garrels-orgel Maassluis - ECPv4.6.16//NONSGML v1.0//EN
CALSCALE:GREGORIAN
METHOD:PUBLISH
X-WR-CALNAME:Garrels-orgel Maassluis
X-ORIGINAL-URL:https://www.garrelsorgelmaassluis.nl
X-WR-CALDESC:Events for Garrels-orgel Maassluis
BEGIN:VEVENT
DTSTART;TZID=Europe/Amsterdam:20180623T200000
DTEND;TZID=Europe/Amsterdam:20180623T200000
DTSTAMP:20260425T002519
CREATED:20171224T090420Z
LAST-MODIFIED:20180602T082155Z
UID:580-1529784000-1529784000@www.garrelsorgelmaassluis.nl
SUMMARY:Arjen Leistra
DESCRIPTION:De Schiedamse stadsorganist speelt Dupré\, Bach en Liszt. \n \nProgramma\nMarcel Dupré (1886-1971)           \nDeuxième Symphonie op.26\n-Prélude\n-Intermezzo\n-Toccata \nJohann Sebastian Bach (1685-1750) \nSonate V in C BWV 529\n-Allegro\n-Largo\n-Allegro \nFranz Liszt (1811-1886) \nPhantasie und Fuge über den Choral: “Ad nos\, ad salutarem undam” \n
URL:https://www.garrelsorgelmaassluis.nl/concert/2018-arjen-leistra/
LOCATION:Kerkplein 2\, Maassluis\, 3144 EK\, Nederland
GEO:51.9221915;4.2508181
X-APPLE-STRUCTURED-LOCATION;VALUE=URI;X-ADDRESS=Kerkplein 2 Maassluis 3144 EK Nederland;X-APPLE-RADIUS=500;X-TITLE=Kerkplein 2:geo:4.2508181,51.9221915
CATEGORIES:2018
ATTACH;FMTTYPE=image/jpeg:https://www.garrelsorgelmaassluis.nl/cms/wp-content/uploads/2017/12/photo.jpg
END:VEVENT
END:VCALENDAR