BEGIN:VCALENDAR
VERSION:2.0
PRODID:-//Garrels-orgel Maassluis - ECPv4.6.16//NONSGML v1.0//EN
CALSCALE:GREGORIAN
METHOD:PUBLISH
X-WR-CALNAME:Garrels-orgel Maassluis
X-ORIGINAL-URL:https://www.garrelsorgelmaassluis.nl
X-WR-CALDESC:Events for Garrels-orgel Maassluis
BEGIN:VEVENT
DTSTART;TZID=Europe/Amsterdam:20170610T200000
DTEND;TZID=Europe/Amsterdam:20170610T200000
DTSTAMP:20260425T153144
CREATED:20171224T092914Z
LAST-MODIFIED:20171224T092914Z
UID:603-1497124800-1497124800@www.garrelsorgelmaassluis.nl
SUMMARY:Jeroen de Haan
DESCRIPTION: \nProgramma\nPreludium & Fuga in h-moll\, BWV 544\nJohann Sebastian Bach (1685-1750) \nDies sind die heilgen zehn Gebot\, BWV 678\nJohann Sebastian Bach \nPrélude et fugue\, opus 49\nEmil Sjögren (1853-1918) \nHelige Ande\, låt nu ske (Sta op! Een morgen ongedacht)\nOskar Lindberg (1887-1955) \nKoraal\, trio\, inleiding en fuga over ‘Meester men zoekt u wijd en zijd’\nJacob Bijster (1902-1958) \nNun komm der Heiden Heiland\nJaap Dragt (1930-2003) \nAus tiefer Not schrei ich zu dir’\, opus 67 no. 3\,\nMax Reger (1873-1916) \nKoraalfantasie ‘Ein feste Burg ist unser Gott\, opus 27\nMax Reger \n  \n  \n
URL:https://www.garrelsorgelmaassluis.nl/concert/2017-jeroen-de-haan/
LOCATION:Kerkplein 2\, Maassluis\, 3144 EK\, Nederland
GEO:51.9221915;4.2508181
X-APPLE-STRUCTURED-LOCATION;VALUE=URI;X-ADDRESS=Kerkplein 2 Maassluis 3144 EK Nederland;X-APPLE-RADIUS=500;X-TITLE=Kerkplein 2:geo:4.2508181,51.9221915
CATEGORIES:2017
END:VEVENT
END:VCALENDAR